BEGIN:VCALENDAR
VERSION:2.0
PRODID:spatie/icalendar-generator
DESCRIPTION:Events from LA SALA
X-WR-CALDESC:Events from LA SALA
REFRESH-INTERVAL;VALUE=DURATION:PT1440M
X-PUBLISHED-TTL:PT1440M
BEGIN:VTIMEZONE
TZID:America/Denver
BEGIN:STANDARD
DTSTART:20191103T020000Z
TZOFFSETFROM:-0600
TZOFFSETTO:-0700
END:STANDARD
BEGIN:DAYLIGHT
DTSTART:20200308T020000Z
TZOFFSETFROM:-0700
TZOFFSETTO:-0600
END:DAYLIGHT
BEGIN:STANDARD
DTSTART:20201101T020000Z
TZOFFSETFROM:-0600
TZOFFSETTO:-0700
END:STANDARD
END:VTIMEZONE
BEGIN:VTIMEZONE
TZID:UTC
BEGIN:STANDARD
DTSTART:20250726T171902Z
TZOFFSETFROM:+0000
TZOFFSETTO:+0000
END:STANDARD
END:VTIMEZONE
BEGIN:VEVENT
UID:162-6
DTSTAMP:20260422T171902Z
SUMMARY:Yoga
LOCATION:
ORGANIZER;CN=Gaea McGahee:MAILTO:gaea.mchagee@gmail.com
RRULE:FREQ=WEEKLY;COUNT=8
DTSTART;TZID=America/Denver:20200604T173000
DTEND;TZID=America/Denver:20200604T190000
X-ALT-DESC;FMTTYPE=TEXT/HTML:Yoga Flow &amp;amp\; Deep Stretch with Gaea - Invi
 gorating flow for all ages\, bodies and abilities. Develop the power to co
 nnect to your body and create space. First half of practice builds heat th
 en ends with restorative poses.
CATEGORIES:yoga
URL;VALUE=URI:https://www.lasalaquesta.com/mc-events/yoga-3/?mc_id=162
METHOD:PUBLISH
END:VEVENT
END:VCALENDAR