BEGIN:VCALENDAR
VERSION:2.0
PRODID:spatie/icalendar-generator
DESCRIPTION:Events from LA SALA
X-WR-CALDESC:Events from LA SALA
REFRESH-INTERVAL;VALUE=DURATION:PT1440M
X-PUBLISHED-TTL:PT1440M
BEGIN:VTIMEZONE
TZID:America/Denver
BEGIN:STANDARD
DTSTART:20191103T020000Z
TZOFFSETFROM:-0600
TZOFFSETTO:-0700
END:STANDARD
BEGIN:DAYLIGHT
DTSTART:20200308T020000Z
TZOFFSETFROM:-0700
TZOFFSETTO:-0600
END:DAYLIGHT
BEGIN:STANDARD
DTSTART:20201101T020000Z
TZOFFSETFROM:-0600
TZOFFSETTO:-0700
END:STANDARD
END:VTIMEZONE
BEGIN:VTIMEZONE
TZID:UTC
BEGIN:STANDARD
DTSTART:20250726T171313Z
TZOFFSETFROM:+0000
TZOFFSETTO:+0000
END:STANDARD
END:VTIMEZONE
BEGIN:VEVENT
UID:142-3
DTSTAMP:20260422T171313Z
SUMMARY:Yoga
LOCATION:
ORGANIZER;CN=Gaea McGahee:MAILTO:gaea.mchagee@gmail.com
RRULE:FREQ=WEEKLY;COUNT=8
DTSTART;TZID=America/Denver:20200602T100000
DTEND;TZID=America/Denver:20200602T110000
X-ALT-DESC;FMTTYPE=TEXT/HTML:Gentle Morning Yoga with Gaea - Explore founda
 tional poses\, facilitate greater mobility and gently build strength and s
 tamina.
CATEGORIES:yoga
URL;VALUE=URI:https://www.lasalaquesta.com/mc-events/yoga-4/?mc_id=142
METHOD:PUBLISH
END:VEVENT
END:VCALENDAR