BEGIN:VCALENDAR
VERSION:2.0
PRODID:spatie/icalendar-generator
DESCRIPTION:Events from LA SALA
X-WR-CALDESC:Events from LA SALA
REFRESH-INTERVAL;VALUE=DURATION:PT1440M
X-PUBLISHED-TTL:PT1440M
BEGIN:VTIMEZONE
TZID:America/Denver
BEGIN:STANDARD
DTSTART:20191103T020000Z
TZOFFSETFROM:-0600
TZOFFSETTO:-0700
END:STANDARD
BEGIN:DAYLIGHT
DTSTART:20200308T020000Z
TZOFFSETFROM:-0700
TZOFFSETTO:-0600
END:DAYLIGHT
BEGIN:STANDARD
DTSTART:20201101T020000Z
TZOFFSETFROM:-0600
TZOFFSETTO:-0700
END:STANDARD
END:VTIMEZONE
BEGIN:VTIMEZONE
TZID:UTC
BEGIN:STANDARD
DTSTART:20250726T155004Z
TZOFFSETFROM:+0000
TZOFFSETTO:+0000
END:STANDARD
END:VTIMEZONE
BEGIN:VEVENT
UID:157-4
DTSTAMP:20260422T155004Z
SUMMARY:Yoga
LOCATION:
ORGANIZER;CN=Gaea McGahee:MAILTO:gaea.mchagee@gmail.com
RRULE:FREQ=WEEKLY;COUNT=8
DTSTART;TZID=America/Denver:20200604T100000
DTEND;TZID=America/Denver:20200604T113000
X-ALT-DESC;FMTTYPE=TEXT/HTML:Gentle Basic Yoga with Willow - Built for thos
 e beginning their practice\, coming back after a break\, or caring for lim
 ited mobility. We use props and take our time. All the benefits\, gentle p
 ace.
CATEGORIES:yoga
URL;VALUE=URI:https://www.lasalaquesta.com/mc-events/yoga/?mc_id=157
METHOD:PUBLISH
END:VEVENT
END:VCALENDAR